
BEGIN:VCALENDAR
VERSION:2.0
PRODID:-//PULS - ECPv6.2.3.1//NONSGML v1.0//EN
CALSCALE:GREGORIAN
METHOD:PUBLISH
X-ORIGINAL-URL:https://www.personalvetare.nu
X-WR-CALDESC:Händelser för PULS
REFRESH-INTERVAL;VALUE=DURATION:PT1H
X-Robots-Tag:noindex
X-PUBLISHED-TTL:PT1H
BEGIN:VTIMEZONE
TZID:Europe/Stockholm
BEGIN:DAYLIGHT
TZOFFSETFROM:+0100
TZOFFSETTO:+0200
TZNAME:CEST
DTSTART:20250330T010000
END:DAYLIGHT
BEGIN:STANDARD
TZOFFSETFROM:+0200
TZOFFSETTO:+0100
TZNAME:CET
DTSTART:20251026T010000
END:STANDARD
END:VTIMEZONE
BEGIN:VEVENT
DTSTART;TZID=Europe/Stockholm:20251009T090000
DTEND;TZID=Europe/Stockholm:20251009T150000
DTSTAMP:20260422T134446
CREATED:20251001T090752Z
LAST-MODIFIED:20251001T162018Z
UID:11980-1760000400-1760022000@www.personalvetare.nu
SUMMARY:HR - dagen 2025
DESCRIPTION:Få chansen att ta del av lärorika föreläsningar och få möjligheten att prata med olika organisationer som är verksamma inom HR-området.  För att hålla er uppdaterade kring eventet följ @naringslivsutkottet på instagram.
URL:https://www.personalvetare.nu/kalender/hr-dagen-2025/
END:VEVENT
END:VCALENDAR