
BEGIN:VCALENDAR
VERSION:2.0
PRODID:-//PULS - ECPv6.2.3.1//NONSGML v1.0//EN
CALSCALE:GREGORIAN
METHOD:PUBLISH
X-ORIGINAL-URL:https://www.personalvetare.nu
X-WR-CALDESC:Händelser för PULS
REFRESH-INTERVAL;VALUE=DURATION:PT1H
X-Robots-Tag:noindex
X-PUBLISHED-TTL:PT1H
BEGIN:VTIMEZONE
TZID:Europe/Stockholm
BEGIN:DAYLIGHT
TZOFFSETFROM:+0100
TZOFFSETTO:+0200
TZNAME:CEST
DTSTART:20250330T010000
END:DAYLIGHT
BEGIN:STANDARD
TZOFFSETFROM:+0200
TZOFFSETTO:+0100
TZNAME:CET
DTSTART:20251026T010000
END:STANDARD
END:VTIMEZONE
BEGIN:VEVENT
DTSTART;TZID=Europe/Stockholm:20250930T180000
DTEND;TZID=Europe/Stockholm:20250930T220000
DTSTAMP:20260422T101903
CREATED:20250917T185944Z
LAST-MODIFIED:20250917T190311Z
UID:11953-1759255200-1759269600@www.personalvetare.nu
SUMMARY:Rekryteringspub på Cok Najs!
DESCRIPTION:Den 30/9 håller valberedningen i en rekryteringspub. Det kommer finnas möjlighet att ställa frågor till styrelsen\, HRarkiet\, Aktu och NLU! \nPå plats kommer alla PULS utskott berätta om deras arbete och förklara vad varje post innebär och ni kommer ha möjlighet att ställa frågor till alla utskott om ni är intresserade av att söka någon post. \nHoppas vi ses!
URL:https://www.personalvetare.nu/kalender/rekryteringspub-pa-cok-najs/
LOCATION:Cok Najs
END:VEVENT
END:VCALENDAR